BEGIN:VCALENDAR
VERSION:2.0
PRODID:-//Tukios.com/
BEGIN:VEVENT
UID:6c26784f-56a6-426f-9c1b-98d8a2783f44@www.haysfuneralhome.com
DTSTAMP:20260424T221414Z
DTSTART:20260502T180000Z
DTEND:20260502T190000Z
SUMMARY:Celebration of Life
DESCRIPTION:Friends and family are warmly invited to attend a reception 
	on Saturday, May 2nd at 2:00 PM, located at 19 Carter Street in Berlin.
URL:https://www.haysfuneralhome.com/obituaries/gail-bickford
LOCATION:Carter 19 19 Carter Street  Berlin MA 01503
GEO:42.3827228;-71.635637
END:VEVENT
END:VCALENDAR