BEGIN:VCALENDAR
VERSION:2.0
PRODID:-//Tukios.com/
BEGIN:VEVENT
UID:a6d57e44-bf92-47bb-a7d4-58bda64eb3ff@www.haysfuneralhome.com
DTSTAMP:20260424T220802Z
DTSTART:20260427T170000Z
DTEND:20260427T180000Z
SUMMARY:Graveside Service
DESCRIPTION:
URL:https://www.haysfuneralhome.com/obituaries/patricia-amatucci
LOCATION:Evergreen Cemetery  Wilson Street  Marlborough MA 01752
GEO:42.3524993;-71.5082624
END:VEVENT
END:VCALENDAR