BEGIN:VCALENDAR
VERSION:2.0
PRODID:-//Tukios.com/
BEGIN:VEVENT
UID:1134286a-2182-403d-84c1-ac3064d638ef@www.haysfuneralhome.com
DTSTAMP:20260424T222437Z
DTSTART:20260502T150000Z
DTEND:20260502T160000Z
SUMMARY:Graveside Service
DESCRIPTION:
URL:https://www.haysfuneralhome.com/obituaries/roger-wentzell
LOCATION:Pine Grove Cemetery Scar Hill Rd.  Boylston MA 
GEO:42.356757;-71.7399262
END:VEVENT
END:VCALENDAR